Workbook

Sheet General 17-18
A1: Salary Calculator
A2: Annual Salary | B2: 36000 | E2: Input
A5: Gross | B5: =SUM(B2:B4) -> 36000
A7: Taxable Salary | B7: =+B5 -> 36000
A8: Tax Thersholds | B8: Rate | D8: Tax
A9: 150000 | B9: 0.45 | C9: =IF($B$7>A9,$B$7-A9,0) -> 0 | D9: =+B9*C9 -> 0
A10: =MAX(0,IF(B5>100000,A11+33500,45000)) -> 45000 | B10: 0.4 | C10: =IF($B$7>A10,IF($B$7>A9,A9-A10,$B$7-A10),0) -> 0 | D10: =+B10*C10 -> 0
A11: =MAX(0,IF(B5>100000,'Notes Rest'!B7,11500)) -> 11500 | B11: 0.2 | C11: =MAX(0,IF($B$7>A10,33500,$B$7-A11)) -> 24500 | D11: =+B11*C11 -> 4900
D12: =SUM(D9:D11) -> 4900 | E12: Total Tax
A13: NIable Salary | B13: =+B2+B4 -> 36000
A14: NIC Thersholds
A15: =3750*12 -> 45000 | B15: 0.02 | C15: =IF($B$13>A15,$B$13-A15,0) -> 0 | D15: =+C15*B15 -> 0
A16: =680*12 -> 8160 | B16: 0.12 | C16: =MAX(0,IF($B$13>A15,36840,$B$13-A16)) -> 27840 | D16: =+C16*B16 -> 3340.8
D17: =SUM(D15:D16) -> 3340.8 | E17: Total NIC
A18: Total Tax | B18: =+D12 -> 4900
A19: Total NI | B19: =+D17 -> 3340.8
A20: Total deductions | B20: =SUM(B18:B19) -> 8240.8
A22: Net to Employee | B22: =B5-B20 -> 27759.2 | E22: Made by:
A23: Monthly in Hand to Employee | B23: =B22/12 -> 2313.2667 | E23: NHA

Sheet Restaurant 17-18
B1: Salary Calculator
B2: House | C2: 16380 | F2: Input
B3: Tronc | C3: 19620
B4: Pension | C4: 0
B5: Gross | C5: =SUM(C2:C4) -> 36000
B7: Taxable Salary | C7: =+C5 -> 36000
B8: Tax Thersholds | C8: Rate | E8: Tax
B9: 150000 | C9: 0.45 | D9: =IF($C$7>B9,$C$7-B9,0) -> 0 | E9: =+C9*D9 -> 0
B10: =MAX(0,IF(C5>100000,B11+33500,45000)) -> 45000 | C10: 0.4 | D10: =IF($C$7>B10,IF($C$7>B9,B9-B10,$C$7-B10),0) -> 0 | E10: =+C10*D10 -> 0
B11: =MAX(0,IF(C5>100000,'Notes Rest'!B7,11500)) -> 11500 | C11: 0.2 | D11: =MAX(0,IF($C$7>B10,33500,$C$7-B11)) -> 24500 | E11: =+C11*D11 -> 4900
E12: =SUM(E9:E11) -> 4900 | F12: Total Tax
B13: NIable Salary | C13: =+C2+C4 -> 16380
B14: NIC Thersholds
B15: =3750*12 -> 45000 | C15: 0.02 | D15: =IF($C$13>B15,$C$13-B15,0) -> 0 | E15: =+D15*C15 -> 0
B16: =680*12 -> 8160 | C16: 0.12 | D16: =MAX(0,IF($C$13>B15,36840,$C$13-B16)) -> 8220 | E16: =+D16*C16 -> 986.4
E17: =SUM(E15:E16) -> 986.4 | F17: Total NIC
B18: Total Tax | C18: =+E12 -> 4900
B19: Total NI | C19: =+E17 -> 986.4
B20: Total deductions | C20: =SUM(C18:C19) -> 5886.4
B22: Net to Employee | C22: =C5-C20 -> 30113.6 | F22: Made by:
B23: Monthly in Hand to Employee | C23: =C22/12 -> 2509.4667 | F23: NHA

Sheet General 18-19
A1: Tax Input | D1: Salary Calculator
A2: Personal Allowance | B2: 11850 | D2: Annual Salary | E2: 36000 | H2: Input
A3: Basic Rate Band | B3: 34500
A4: Higher Rate Threshold | B4: =+B2+B3 -> 46350
A5: Additional Rate Threshold | B5: 150000 | D5: Gross | E5: =SUM(E2:E4) -> 36000
A7: NIC Input | D7: Taxable Salary | E7: =+E5 -> 36000
A8: Prmiary Threshold | B8: 8424 | D8: Tax Thersholds | E8: Rate | G8: Tax
A9: Upper Secondary Threshold | B9: 46350 | D9: 150000 | E9: 0.45 | F9: =IF($E$7>D9,$E$7-D9,0) -> 0 | G9: =+E9*F9 -> 0
D10: =MAX(0,IF(E5>100000,D11+B3,B4)) -> 46350 | E10: 0.4 | F10: =IF($E$7>D10,IF($E$7>D9,D9-D10,$E$7-D10),0) -> 0 | G10: =+E10*F10 -> 0
D11: =MAX(0,IF(E5>100000,'Notes Rest'!B7,B2)) -> 11850 | E11: 0.2 | F11: =MAX(0,IF($E$7>D10,33500,$E$7-D11)) -> 24150 | G11: =+E11*F11 -> 4830
G12: =SUM(G9:G11) -> 4830 | H12: Total Tax
D13: NIable Salary | E13: =+E2+E4 -> 36000
D14: NIC Thersholds
D15: =3750*12 -> 45000 | E15: 0.02 | F15: =IF($E$13>D15,$E$13-D15,0) -> 0 | G15: =+F15*E15 -> 0
D16: =+B8 -> 8424 | E16: 0.12 | F16: =MAX(0,IF($E$13>D15,36840,$E$13-D16)) -> 27576 | G16: =+F16*E16 -> 3309.12
G17: =SUM(G15:G16) -> 3309.12 | H17: Total NIC
D18: Total Tax | E18: =+G12 -> 4830
D19: Total NI | E19: =+G17 -> 3309.12
D20: Total deductions | E20: =SUM(E18:E19) -> 8139.12
D22: Net to Employee | E22: =E5-E20 -> 27860.88 | H22: Made by:
D23: Monthly in Hand to Employee | E23: =E22/12 -> 2321.74 | H23: NHA

Sheet General 19-20
A1: Tax Input | D1: Salary Calculator
A2: Personal Allowance | B2: 12500 | D2: Annual Salary | E2: 180000 | H2: Input
A3: Basic Rate Band | B3: 37500
A4: Higher Rate Threshold | B4: =+B2+B3 -> 50000
A5: Additional Rate Threshold | B5: 150000 | D5: Gross | E5: =SUM(E2:E4) -> 180000
A7: NIC Input | D7: Taxable Salary | E7: =+E5 -> 180000
A8: Primary Threshold | B8: 8632 | D8: Tax Thersholds | E8: Rate | G8: Tax
A9: Upper Secondary Threshold | B9: 50000 | D9: 150000 | E9: 0.45 | F9: =IF($E$7>D9,$E$7-D9,0) -> 30000 | G9: =+E9*F9 -> 13500
D10: =MAX(0,IF(E5>100000,D11+B3,B4)) -> 89753.92 | E10: 0.4 | F10: =IF($E$7>D10,IF($E$7>D9,D9-D10,$E$7-D10),0) -> 60246.08 | G10: =+E10*F10 -> 24098.432
D11: =MAX(0,IF(E5>100000,'Notes Rest'!B7,B2)) -> 52253.92 | E11: 0.2 | F11: =MAX(0,IF($E$7>D10,B3,$E$7-D11)) -> 37500 | G11: =+E11*F11 -> 7500
G12: =SUM(G9:G11) -> 45098.432 | H12: Total Tax
D13: NIable Salary | E13: =+E2+E4 -> 180000
D14: NIC Thersholds
D15: =B9 -> 50000 | E15: 0.02 | F15: =IF($E$13>D15,$E$13-D15,0) -> 130000 | G15: =+F15*E15 -> 2600
D16: =+B8 -> 8632 | E16: 0.12 | F16: =MAX(0,IF($E$13>D15,(B9-B8),$E$13-D16)) -> 41368 | G16: =+F16*E16 -> 4964.16
G17: =SUM(G15:G16) -> 7564.16 | H17: Total NIC
D18: Total Tax | E18: =+G12 -> 45098.432
D19: Total NI | E19: =+G17 -> 7564.16
D20: Total deductions | E20: =SUM(E18:E19) -> 52662.592
D22: Net to Employee | E22: =E5-E20 -> 127337.41 | H22: Made by:
D23: Monthly in Hand to Employee | E23: =E22/12 -> 10611.451 | H23: NHA

Sheet Notes General
A1: Personal Allowance reduction for salaries over £100k
A2: Taxable Pay | B2: ='General 19-20'!E2 -> 180000 | C2: B1
A3: Threshold | B3: 100000 | C3: B2
A4: Net | B4: =B2-B3 -> 80000 | C4: B3 | D4: B1 -B2
A5: Personal Allowance | B5: ='General 19-20'!B2 -> 12500 | C5: B4
B6: =B4*0.5 -> 40000 | C6: B5
A7: Reduced Personal Allowance | B7: =+B5-B6 -> -27500

Sheet Restaurant 18-19
A1: Tax Input | D1: Salary Calculator
A2: Personal Allowance | B2: 12500 | D2: Hours worked in a week | E2: 48 | H2: Input
A3: Basic Rate Band | B3: 37500 | D3: Minimium Wage | E3: 8.21
A4: Higher Rate Threshold | B4: =+B2+B3 -> 50000 | D4: House | E4: =E2*E3*52 -> 20492.16
A5: Additional Rate Threshold | B5: 150000 | D5: Tronc | E5: 14500
D6: Pension | E6: 0
A7: NIC Input | D7: Gross | E7: =SUM(E4:E6) -> 34992.16
A8: Prmiary Threshold | B8: 8632 | G8: Tax
A9: Upper Secondary Threshold | B9: 50000 | D9: Taxable Salary | E9: =+E7 -> 34992.16 | F9: =IF($E$9>D11,$E$9-D11,0) -> 0 | G9: =+E11*F9 -> 0
D10: Tax Thersholds | E10: Rate | F10: =IF($E$9>D12,IF($E$9>D11,D11-D12,$E$9-D12),0) -> 0 | G10: =+E12*F10 -> 0
D11: 150000 | E11: 0.45 | F11: =MAX(0,IF($E$9>D12,B3,$E$9-D13)) -> 22492.16 | G11: =+E13*F11 -> 4498.432
D12: =MAX(0,IF(E7>100000,D13+B3,B4)) -> 50000 | E12: 0.4 | G12: =SUM(G9:G11) -> 4498.432 | H12: Total Tax
D13: =MAX(0,IF(E7>100000,'Notes Rest'!B7,B2)) -> 12500 | E13: 0.2
D15: NIable Salary | E15: =+E4+E6 -> 20492.16 | F15: =IF($E$15>D17,$E$15-D17,0) -> 0 | G15: =+F15*E17 -> 0
D16: NIC Thersholds | F16: =MAX(0,IF($E$15>D17,(B9-B8),$E$15-D18)) -> 11860.16 | G16: =+F16*E18 -> 1423.2192
D17: =+B9 -> 50000 | E17: 0.02 | G17: =SUM(G15:G16) -> 1423.2192 | H17: Total NIC
D18: =+B8 -> 8632 | E18: 0.12
D20: Total Tax | E20: =+G12 -> 4498.432
D21: Total NI | E21: =+G17 -> 1423.2192
D22: Total deductions | E22: =SUM(E20:E21) -> 5921.6512 | H22: Made by:
H23: NHA
D24: Net to Employee | E24: =E7-E22 -> 29070.509
D25: Monthly in Hand to Employee | E25: =E24/12 -> 2422.5424

Sheet Notes Rest
A1: Personal Allowance reduction for salaries over £100k
A2: Taxable Pay | B2: ='Restaurant 18-19'!E4 -> 20492.16 | C2: B1
A3: Threshold | B3: 100000 | C3: B2
A4: Net | B4: =B2-B3 -> -79507.84 | C4: B3 | D4: B1 -B2
A5: Personal Allowance | B5: ='General 19-20'!B2 -> 12500 | C5: B4
B6: =B4*0.5 -> -39753.92 | C6: B5
A7: Reduced Personal Allowance | B7: =+B5-B6 -> 52253.92
